BEGIN:VCALENDAR
VERSION:2.0
METHOD:PUBLISH
BEGIN:VEVENT
DTSTAMP:20260423T204122Z
DTSTART:20241206T133000Z
DTEND:20241207T045500Z
SUMMARY:National Day of Remembrance and Action on Violence Against Women
LOCATION:1 Wellington Street, Stratford
END:VEVENT
END:VCALENDAR
