BEGIN:VCALENDAR
VERSION:2.0
METHOD:PUBLISH
BEGIN:VEVENT
DTSTAMP:20260424T164149Z
DTSTART:20250601T120000Z
DTEND:20250602T035500Z
SUMMARY:Pride Month
LOCATION:City of Stratford
END:VEVENT
END:VCALENDAR
