BEGIN:VCALENDAR
VERSION:2.0
METHOD:PUBLISH
BEGIN:VEVENT
DTSTAMP:20260422T145008Z
DTSTART:20260407T160000Z
DTEND:20260407T173000Z
SUMMARY:Accessibility Advisory Committee Meeting
LOCATION:353 McCarthy Rd, Stratford, ON N5A 7S7
END:VEVENT
END:VCALENDAR
