BEGIN:VCALENDAR
VERSION:2.0
METHOD:PUBLISH
BEGIN:VEVENT
DTSTAMP:20260422T143046Z
DTSTART:20260407T190000Z
DTEND:20260407T190000Z
SUMMARY:Municipal Accommodation Tax Ad-Hoc Committee
END:VEVENT
END:VCALENDAR
