BEGIN:VCALENDAR
VERSION:2.0
METHOD:PUBLISH
BEGIN:VEVENT
DTSTAMP:20260422T145111Z
DTSTART:20260409T123000Z
DTEND:20260410T035500Z
SUMMARY:70th Anniversary of Retired Women Teachers of Ontario Stratford Branch
LOCATION:City of Stratford
END:VEVENT
END:VCALENDAR
