BEGIN:VCALENDAR
VERSION:2.0
METHOD:PUBLISH
BEGIN:VEVENT
DTSTAMP:20260422T143621Z
DTSTART:20260409T180000Z
DTEND:20260409T180000Z
SUMMARY:Committee of the Whole Open Session
END:VEVENT
END:VCALENDAR
