BEGIN:VCALENDAR
VERSION:2.0
METHOD:PUBLISH
BEGIN:VEVENT
DTSTAMP:20260422T143412Z
DTSTART:20260416T203000Z
DTEND:20260416T203000Z
SUMMARY:Community Services Sub-committee
END:VEVENT
END:VCALENDAR
