BEGIN:VCALENDAR
VERSION:2.0
METHOD:PUBLISH
BEGIN:VEVENT
DTSTAMP:20260423T114425Z
DTSTART:20260425T130000Z
DTEND:20260425T180000Z
SUMMARY:Household Hazardous Waste Collection
LOCATION:777 Romeo Street South, Stratford
END:VEVENT
END:VCALENDAR
