BEGIN:VCALENDAR
VERSION:2.0
METHOD:PUBLISH
BEGIN:VEVENT
DTSTAMP:20260425T114234Z
DTSTART:20260427T210000Z
DTEND:20260427T230000Z
SUMMARY:CANCELLED - Committee of the Whole In-camera Session
END:VEVENT
END:VCALENDAR
