BEGIN:VCALENDAR
VERSION:2.0
METHOD:PUBLISH
BEGIN:VEVENT
DTSTAMP:20260422T183137Z
DTSTART:20240116T000000Z
DTEND:20240116T020000Z
SUMMARY:Ad-Hoc Grand Trunk Renewal Committee Meeting
LOCATION:1 Wellington Street
END:VEVENT
END:VCALENDAR
