BEGIN:VCALENDAR
VERSION:2.0
METHOD:PUBLISH
BEGIN:VEVENT
DTSTAMP:20260422T182923Z
DTSTART:20240221T000000Z
DTEND:20240221T000000Z
SUMMARY:Ad-Hoc Grand Trunk Renewal Committee
END:VEVENT
END:VCALENDAR
