BEGIN:VCALENDAR
VERSION:2.0
METHOD:PUBLISH
BEGIN:VEVENT
DTSTAMP:20260422T182909Z
DTSTART:20240617T230000Z
DTEND:20240617T230000Z
SUMMARY:Ad-Hoc Grand Trunk Renewal Committee
END:VEVENT
END:VCALENDAR
