BEGIN:VCALENDAR
VERSION:2.0
METHOD:PUBLISH
BEGIN:VEVENT
DTSTAMP:20260422T201159Z
DTSTART:20250211T210000Z
DTEND:20250211T210000Z
SUMMARY:Ad-Hoc Grand Trunk Renewal Committee
END:VEVENT
END:VCALENDAR
