BEGIN:VCALENDAR
VERSION:2.0
METHOD:PUBLISH
BEGIN:VEVENT
DTSTAMP:20260424T085814Z
DTSTART:20250616T200000Z
DTEND:20250616T200000Z
SUMMARY:Ad-Hoc Grand Trunk Renewal Committee
END:VEVENT
END:VCALENDAR
