BEGIN:VCALENDAR
VERSION:2.0
METHOD:PUBLISH
BEGIN:VEVENT
DTSTAMP:20260422T183045Z
DTSTART:20250721T200000Z
DTEND:20250721T200000Z
SUMMARY:CANCELLED - Ad-Hoc Grand Trunk Renewal Committee
END:VEVENT
END:VCALENDAR
