BEGIN:VCALENDAR
VERSION:2.0
METHOD:PUBLISH
BEGIN:VEVENT
DTSTAMP:20260422T200907Z
DTSTART:20250825T200000Z
DTEND:20250825T200000Z
SUMMARY:Ad-Hoc Grand Trunk Renewal Committee
END:VEVENT
END:VCALENDAR
