BEGIN:VCALENDAR
VERSION:2.0
METHOD:PUBLISH
BEGIN:VEVENT
DTSTAMP:20260423T023110Z
DTSTART:20260429T083000Z
DTEND:20260429T083000Z
SUMMARY:Infrastructure, Transportation and Safety Sub-committee
END:VEVENT
END:VCALENDAR
