BEGIN:VCALENDAR
VERSION:2.0
METHOD:PUBLISH
BEGIN:VEVENT
DTSTAMP:20260422T201035Z
DTSTART:20260527T203000Z
DTEND:20260527T203000Z
SUMMARY:Infrastructure, Transportation and Safety Sub-committee
END:VEVENT
END:VCALENDAR
