BEGIN:VCALENDAR
VERSION:2.0
METHOD:PUBLISH
BEGIN:VEVENT
DTSTAMP:20260420T182000Z
DTSTART:20260609T230000Z
DTEND:20260610T000000Z
SUMMARY:Heritage Stratford Advisory Committee Meeting
LOCATION:353 McCarthy Rd, Stratford, ON N5A 7S7
END:VEVENT
END:VCALENDAR
