BEGIN:VCALENDAR
VERSION:2.0
METHOD:PUBLISH
BEGIN:VEVENT
DTSTAMP:20260420T181631Z
DTSTART:20260616T203000Z
DTEND:20260616T203000Z
SUMMARY:Finance and Labour Relations Sub-committee
END:VEVENT
END:VCALENDAR
