BEGIN:VCALENDAR
VERSION:2.0
METHOD:PUBLISH
BEGIN:VEVENT
DTSTAMP:20260420T181702Z
DTSTART:20260617T200000Z
DTEND:20260617T220000Z
SUMMARY:Committee of Adjustment
LOCATION:1 Wellington Street, Stratford Ontario N5A 2L3
END:VEVENT
END:VCALENDAR
